BEGIN:VCALENDAR
PRODID:-//AT Content Types//AT Event//EN
VERSION:2.0
METHOD:PUBLISH
BEGIN:VEVENT
DTSTAMP:20260420T171739Z
CREATED:20160908T090937Z
LAST-MODIFIED:20160913T095752Z
SUMMARY:EndNote\, Mendeley e Zotero
DTSTART:20160928T010000Z
DTEND:20160928T040000Z
DESCRIPTION:Seminar
LOCATION:Aula Mangini (room 9)\, Department of Chimica Industriale 'Toso Montanari'\, Viale Risorgimento 4\, Bologna
URL:https://sba.unibo.it/en/noticeboard/events/endnote-mendeley-e-zotero
CLASS:PUBLIC
END:VEVENT
END:VCALENDAR
