BEGIN:VCALENDAR
PRODID:-//AT Content Types//AT Event//EN
VERSION:2.0
METHOD:PUBLISH
BEGIN:VEVENT
DTSTAMP:20260421T022738Z
CREATED:20181108T151824Z
LAST-MODIFIED:20251110T114732Z
SUMMARY:Il monitoraggio dei costi di pubblicazione in Open Access
DTSTART:20251201T080000Z
DTEND:20251201T123000Z
LOCATION:Online su piattaforma MS Teams
URL:https://sba.unibo.it/it/bacheca/eventi/2025-open-access-costi-pubbl
CLASS:PUBLIC
END:VEVENT
END:VCALENDAR
