BEGIN:VCALENDAR
PRODID:-//AT Content Types//AT Event//EN
VERSION:2.0
METHOD:PUBLISH
BEGIN:VEVENT
DTSTAMP:20260424T194039Z
CREATED:20171005T105149Z
LAST-MODIFIED:20260423T152108Z
SUMMARY:ACNP - L'aggiornamento in linea del Catalogo Collettivo Nazionale dei Periodici
DTSTART:20260507T220000Z
DTEND:20260520T220000Z
DESCRIPTION:1. ed. 2026
LOCATION:Modulo 1: Aula virtuale su piattaforma Teams\; Modulo 2: sede in corso di definizione
URL:https://sba.unibo.it/it/bacheca/eventi/ACNP-completo-mag-2026
CLASS:PUBLIC
END:VEVENT
END:VCALENDAR
