BEGIN:VCALENDAR
PRODID:-//AT Content Types//AT Event//EN
VERSION:2.0
METHOD:PUBLISH
BEGIN:VEVENT
DTSTAMP:20260426T022009Z
CREATED:20190415T131912Z
LAST-MODIFIED:20230204T090431Z
SUMMARY:GIANO\, ovvero come gestire le bibliografie in programma d’esame
DTSTART:20230221T100000Z
DTEND:20230221T120000Z
DESCRIPTION:Corso completo - ed. 2023
LOCATION:Aula virtuale su piattaforma Teams
URL:https://sba.unibo.it/it/bacheca/eventi/GIANO-2023-feb-21
CLASS:PUBLIC
END:VEVENT
END:VCALENDAR
