BEGIN:VCALENDAR
PRODID:-//AT Content Types//AT Event//EN
VERSION:2.0
METHOD:PUBLISH
BEGIN:VEVENT
DTSTAMP:20260424T034905Z
CREATED:20190415T131912Z
LAST-MODIFIED:20230831T110322Z
SUMMARY:Information Literacy come Competenza Trasversale:  Training for Trainers
DTSTART:20230912T080000Z
DTEND:20230928T110000Z
URL:https://sba.unibo.it/it/bacheca/eventi/IL-trainers-2023
CLASS:PUBLIC
END:VEVENT
END:VCALENDAR
