BEGIN:VCALENDAR
PRODID:-//AT Content Types//AT Event//EN
VERSION:2.0
METHOD:PUBLISH
BEGIN:VEVENT
DTSTAMP:20260424T145332Z
CREATED:20171005T105149Z
LAST-MODIFIED:20240524T103151Z
SUMMARY:Corso ACNP - Il nuovo applicativo per l'aggiornamento in linea del Catalogo Collettivo Nazionale dei Periodici
DTSTART:20240516T220000Z
DTEND:20240610T220000Z
DESCRIPTION:ISCRIZIONI CHIUSE
LOCATION:Aula virtuale su piattaforma Teams\; Aula N plesso Belmeloro
URL:https://sba.unibo.it/it/bacheca/eventi/Nuovo-ACNP-2024-corso-completo
CLASS:PUBLIC
END:VEVENT
END:VCALENDAR
