BEGIN:VCALENDAR
PRODID:-//AT Content Types//AT Event//EN
VERSION:2.0
METHOD:PUBLISH
BEGIN:VEVENT
DTSTAMP:20260423T150624Z
CREATED:20171005T105149Z
LAST-MODIFIED:20250508T141758Z
SUMMARY:ACNP - Il nuovo applicativo per l'aggiornamento in linea del Catalogo Collettivo Nazionale dei Periodici - 1. ed. 2025
DTSTART:20250514T220000Z
DTEND:20250521T220000Z
DESCRIPTION:ISCRIZIONI CHIUSE
LOCATION:Aula virtuale su piattaforma Teams\; Aula O plesso Belmeloro
URL:https://sba.unibo.it/it/bacheca/eventi/Nuovo-ACNP-completo-mag-2025
CLASS:PUBLIC
END:VEVENT
END:VCALENDAR
