BEGIN:VCALENDAR
PRODID:-//AT Content Types//AT Event//EN
VERSION:2.0
METHOD:PUBLISH
BEGIN:VEVENT
DTSTAMP:20260422T161755Z
CREATED:20160428T060610Z
LAST-MODIFIED:20170419T085444Z
SUMMARY:Accoglienza degli utenti con disabilità in biblioteca  e utilizzo delle tecnologie assistive
DTSTART:20160519T073000Z
DTEND:20160523T113000Z
DESCRIPTION:L'iniziativa intende diffondere buone pratiche e conoscenz
 e utili a favorire l’accesso alle informazioni e ai servizi bibliote
 cari da parte di utenti con disabilità (in particolare visiva\, DSA\,
  motoria)\, promuovendo anche una maggiore sensibilità da parte del p
 ersonale bibliotecario e tecnico rispetto ai temi dell’inclusione e 
 della pari opportunità nell’accesso al sapere.
LOCATION:Primo modulo: Campus di Forlì\, aula 14 del teaching Hub posta al 2° piano del Blocco B. Secondo Modulo Campus Cesena\, Vicepresidenza Scuola di Psicologia.
URL:https://sba.unibo.it/it/bacheca/eventi/accoglienza-degli-utenti-con-disabilita-in-biblioteca-e-utilizzo-delle-tecnologie-assistive
CLASS:PUBLIC
END:VEVENT
END:VCALENDAR
