BEGIN:VCALENDAR
PRODID:-//AT Content Types//AT Event//EN
VERSION:2.0
METHOD:PUBLISH
BEGIN:VEVENT
DTSTAMP:20260425T013341Z
CREATED:20160210T101820Z
LAST-MODIFIED:20160725T123628Z
SUMMARY:Le banche dati giuridiche
DTSTART:20080505T220000Z
DTEND:20080519T220000Z
DESCRIPTION:Presentazione delle principali banche dati giuridiche.
LOCATION:l’aula G di Via Filippo Re\, 8 (Presso Biblioteca di Biomedica)\, II piano.
URL:https://sba.unibo.it/it/bacheca/eventi/archivio/corso-banche-dati-giuridiche-2008.html
CLASS:PUBLIC
END:VEVENT
END:VCALENDAR
