BEGIN:VCALENDAR
PRODID:-//AT Content Types//AT Event//EN
VERSION:2.0
METHOD:PUBLISH
BEGIN:VEVENT
DTSTAMP:20260420T110253Z
CREATED:20160210T102011Z
LAST-MODIFIED:20160725T123637Z
SUMMARY:Ricerche nelle banche dati di Statistica
DTSTART:20060313T230000Z
DTEND:20060313T230000Z
DESCRIPTION:Il corso è riservato agli studenti del Dottorato in Stati
 stica ed Economia Agroalimentare.
LOCATION:Sala Azzurra
URL:https://sba.unibo.it/it/bacheca/eventi/archivio/corso-per-gli-studenti-del-dottorato-in-statistica.html
CLASS:PUBLIC
END:VEVENT
END:VCALENDAR
