BEGIN:VCALENDAR
PRODID:-//AT Content Types//AT Event//EN
VERSION:2.0
METHOD:PUBLISH
BEGIN:VEVENT
DTSTAMP:20260425T010155Z
CREATED:20171114T104518Z
LAST-MODIFIED:20171114T104940Z
SUMMARY:Atelier di formazione alla ricerca: le competenze bibliografiche
DTSTART:20171201T120000Z
DTEND:20171201T140000Z
DESCRIPTION:L'atelier\, introdotto dai professori Andrea Bacchi e Sand
 ra Costa\, si svolgerà in Aula Magna dalle 13 alle 15. Si rivolge agl
 i studenti della Laurea Magistrale in Arti Visive ed ha come scopo que
 llo di fornire ai partecipanti le competenze e gli strumenti necessari
  per orientarsi nel complesso mondo delle risorse bibliografiche\, sia
  di quelle ad accesso libero sia di quelle acquisite dall'Università 
 di Bologna.
LOCATION:Aula Magna\, Complesso di S. Cristina\, Aula Magna - piazzetta Giorgio Morandi 2  Bologna
URL:https://sba.unibo.it/it/bacheca/eventi/atelier-di-formazione-alla-ricerca-le-competenze-bibliografiche
CLASS:PUBLIC
END:VEVENT
END:VCALENDAR
