BEGIN:VCALENDAR
PRODID:-//AT Content Types//AT Event//EN
VERSION:2.0
METHOD:PUBLISH
BEGIN:VEVENT
DTSTAMP:20260424T091314Z
CREATED:20171005T105149Z
LAST-MODIFIED:20201021T134929Z
SUMMARY:Corso ACNP |  1-7 luglio 2020 - ISCRIZIONI CHIUSE!!!
DTSTART:20200701T070000Z
DTEND:20200707T113000Z
DESCRIPTION:Corso per la gestione e l'aggiornamento del Catalogo Itali
 ano dei Periodici (ACNP) - su piattaforma Teams
LOCATION:Aula virtuale su piattaforma Teams
URL:https://sba.unibo.it/it/bacheca/eventi/corso-acnp-luglio-2020
CLASS:PUBLIC
END:VEVENT
END:VCALENDAR
