BEGIN:VCALENDAR
PRODID:-//AT Content Types//AT Event//EN
VERSION:2.0
METHOD:PUBLISH
BEGIN:VEVENT
DTSTAMP:20260425T005125Z
CREATED:20160926T120049Z
LAST-MODIFIED:20160926T120139Z
SUMMARY:Corso di base sulle risorse informative giuridiche - 1° edizione
DTSTART:20161005T080000Z
DTEND:20161005T113000Z
DESCRIPTION:Le Biblioteche giuridiche offrono corsi teorico-pratici a 
 cadenza settimanale di 3 ore e 30' per approfondire la conoscenza e l'
 utilizzo degli strumenti per la ricerca giuridica.
LOCATION:Sala Banche dati - Biblioteca Giuridica "Antonio Cicu"
URL:https://sba.unibo.it/it/bacheca/eventi/corso-di-base-sulle-risorse-informative-giuridiche-1deg-edizione
CLASS:PUBLIC
END:VEVENT
END:VCALENDAR
