BEGIN:VCALENDAR
PRODID:-//AT Content Types//AT Event//EN
VERSION:2.0
METHOD:PUBLISH
BEGIN:VEVENT
DTSTAMP:20260420T173218Z
CREATED:20160608T094230Z
LAST-MODIFIED:20160725T123703Z
SUMMARY:Corso di base sulle risorse informative giuridiche - 2 edizione
DTSTART:20160629T080000Z
DTEND:20160629T113000Z
DESCRIPTION:Le Biblioteche giuridiche offrono corsi teorico-pratici a 
 cadenza settimanale di 3 ore e 30' per approfondire la conoscenza e l'
 utilizzo degli strumenti per la ricerca giuridica.
LOCATION:Sala Banche dati - Biblioteca Giuridica "Antonio Cicu"
URL:https://sba.unibo.it/it/bacheca/eventi/corso-di-base-sulle-risorse-informative-giuridiche-2-edizione-2
CLASS:PUBLIC
END:VEVENT
END:VCALENDAR
