BEGIN:VCALENDAR
PRODID:-//AT Content Types//AT Event//EN
VERSION:2.0
METHOD:PUBLISH
BEGIN:VEVENT
DTSTAMP:20260424T055403Z
CREATED:20170208T122749Z
LAST-MODIFIED:20170208T122857Z
SUMMARY:Corso di base sulle risorse informative giuridiche - 3° edizione
DTSTART:20170223T090000Z
DTEND:20170223T123000Z
DESCRIPTION:Le Biblioteche giuridiche offrono corsi teorico-pratici a 
 cadenza settimanale di 3 ore e 30' per approfondire la conoscenza e l'
 utilizzo degli strumenti per la ricerca giuridica.
LOCATION:SDE presso Lab. CIRSFID\, via Belmeloro 14 (Aula N)
URL:https://sba.unibo.it/it/bacheca/eventi/corso-di-base-sulle-risorse-informative-giuridiche-3deg-edizione-1
CLASS:PUBLIC
END:VEVENT
END:VCALENDAR
