BEGIN:VCALENDAR
PRODID:-//AT Content Types//AT Event//EN
VERSION:2.0
METHOD:PUBLISH
BEGIN:VEVENT
DTSTAMP:20260425T185252Z
CREATED:20170524T110729Z
LAST-MODIFIED:20170524T110755Z
SUMMARY:Corso di base sulle risorse informative giuridiche - 3° edizione
DTSTART:20170710T080000Z
DTEND:20170710T113000Z
DESCRIPTION:Le Biblioteche giuridiche offrono corsi teorico-pratici a 
 cadenza settimanale di 3 ore e 30' per approfondire la conoscenza e l'
 utilizzo degli strumenti per la ricerca giuridica.
LOCATION:Sala Banche dati - Biblioteca Giuridica "Antonio Cicu"
URL:https://sba.unibo.it/it/bacheca/eventi/corso-di-base-sulle-risorse-informative-giuridiche-3deg-edizione-3
CLASS:PUBLIC
END:VEVENT
END:VCALENDAR
