BEGIN:VCALENDAR
PRODID:-//AT Content Types//AT Event//EN
VERSION:2.0
METHOD:PUBLISH
BEGIN:VEVENT
DTSTAMP:20260425T185129Z
CREATED:20160923T073719Z
LAST-MODIFIED:20160926T115654Z
SUMMARY:Corso di base sulle risorse informative giuridiche - 4° edizione
DTSTART:20161026T080000Z
DTEND:20161026T113000Z
DESCRIPTION:Le Biblioteche giuridiche offrono corsi teorico-pratici a 
 cadenza settimanale di 3 ore e 30' per approfondire la conoscenza e l'
 utilizzo degli strumenti per la ricerca giuridica
LOCATION:Biblioteca Giuridica “Antonio Cicu”\, via Zamboni 27/29 (Sala Banche dati)
URL:https://sba.unibo.it/it/bacheca/eventi/corso-di-base-sulle-risorse-informative-giuridiche-3deg-edizione
CLASS:PUBLIC
END:VEVENT
END:VCALENDAR
