BEGIN:VCALENDAR
PRODID:-//AT Content Types//AT Event//EN
VERSION:2.0
METHOD:PUBLISH
BEGIN:VEVENT
DTSTAMP:20260422T140115Z
CREATED:20160504T100502Z
LAST-MODIFIED:20241018T071341Z
SUMMARY:GAP - Gestione Amministrativa dei Periodici sul nuovo applicativo ACNP
DTSTART:20241202T230000Z
DTEND:20241204T230000Z
DESCRIPTION:2. edizione 2024
LOCATION:Aula virtuale su piattaforma Teams
URL:https://sba.unibo.it/it/bacheca/eventi/corso-gap-dic2024
CLASS:PUBLIC
END:VEVENT
END:VCALENDAR
