BEGIN:VCALENDAR
PRODID:-//AT Content Types//AT Event//EN
VERSION:2.0
METHOD:PUBLISH
BEGIN:VEVENT
DTSTAMP:20260425T122812Z
CREATED:20160504T100502Z
LAST-MODIFIED:20230522T161838Z
SUMMARY:Corso GAP | 12-15 giugno 2023
DTSTART:20230611T220000Z
DTEND:20230614T220000Z
DESCRIPTION:Corso per la Gestione amministrativa dei periodici in ACNP
  (GAP)
LOCATION:Aula virtuale su piattaforma Teams
URL:https://sba.unibo.it/it/bacheca/eventi/corso-gap-giu2023
CLASS:PUBLIC
END:VEVENT
END:VCALENDAR
