BEGIN:VCALENDAR
PRODID:-//AT Content Types//AT Event//EN
VERSION:2.0
METHOD:PUBLISH
BEGIN:VEVENT
DTSTAMP:20260425T004039Z
CREATED:20160504T100502Z
LAST-MODIFIED:20240531T063724Z
SUMMARY:Corso GAP sul nuovo applicativo
DTSTART:20240609T220000Z
DTEND:20240612T220000Z
DESCRIPTION:ISCRIZIONI CHIUSE
LOCATION:Aula virtuale su piattaforma Teams
URL:https://sba.unibo.it/it/bacheca/eventi/corso-gap-giu2024
CLASS:PUBLIC
END:VEVENT
END:VCALENDAR
