BEGIN:VCALENDAR
PRODID:-//AT Content Types//AT Event//EN
VERSION:2.0
METHOD:PUBLISH
BEGIN:VEVENT
DTSTAMP:20260424T170849Z
CREATED:20160504T100502Z
LAST-MODIFIED:20260423T152005Z
SUMMARY:GAP - La Gestione Amministrativa dei Periodici in ACNP
DTSTART:20260517T220000Z
DTEND:20260521T220000Z
DESCRIPTION:1. ed. 2026
LOCATION:Aula virtuale su piattaforma Teams
URL:https://sba.unibo.it/it/bacheca/eventi/corso-gap-mag-2026
CLASS:PUBLIC
END:VEVENT
END:VCALENDAR
