BEGIN:VCALENDAR
PRODID:-//AT Content Types//AT Event//EN
VERSION:2.0
METHOD:PUBLISH
BEGIN:VEVENT
DTSTAMP:20260421T022626Z
CREATED:20160504T100502Z
LAST-MODIFIED:20251103T091341Z
SUMMARY:GAP - Gestione Amministrativa dei Periodici sul nuovo applicativo ACNP - 2. ed. 2025
DTSTART:20251130T230000Z
DTEND:20251203T230000Z
LOCATION:Aula virtuale su piattaforma Teams
URL:https://sba.unibo.it/it/bacheca/eventi/corso-gap-nov-2025
CLASS:PUBLIC
END:VEVENT
END:VCALENDAR
