BEGIN:VCALENDAR
PRODID:-//AT Content Types//AT Event//EN
VERSION:2.0
METHOD:PUBLISH
BEGIN:VEVENT
DTSTAMP:20260421T193840Z
CREATED:20160504T100502Z
LAST-MODIFIED:20221027T143556Z
SUMMARY:Corso GAP | 18-25 novembre 2022
DTSTART:20221117T230000Z
DTEND:20221124T230000Z
DESCRIPTION:Corso per la Gestione amministrativa dei periodici in ACNP
  (GAP)
LOCATION:Aula virtuale su piattaforma Teams
URL:https://sba.unibo.it/it/bacheca/eventi/corso-gap-nov2022
CLASS:PUBLIC
END:VEVENT
END:VCALENDAR
