BEGIN:VCALENDAR
PRODID:-//AT Content Types//AT Event//EN
VERSION:2.0
METHOD:PUBLISH
BEGIN:VEVENT
DTSTAMP:20260424T232057Z
CREATED:20171005T105149Z
LAST-MODIFIED:20240220T131138Z
SUMMARY:Corso GAP - Il nuovo applicativo per la Gestione Amministrativa dei Periodici in ACNP
DTSTART:20240311T105000Z
DTEND:20240325T115000Z
LOCATION:Aula virtuale su piattaforma Teams
URL:https://sba.unibo.it/it/bacheca/eventi/corso-nuovogap-2024
CLASS:PUBLIC
END:VEVENT
END:VCALENDAR
