BEGIN:VCALENDAR
PRODID:-//AT Content Types//AT Event//EN
VERSION:2.0
METHOD:PUBLISH
BEGIN:VEVENT
DTSTAMP:20260420T154100Z
CREATED:20171124T121310Z
LAST-MODIFIED:20171130T103217Z
SUMMARY:Corso sulla ricerca bibliografica per gli studenti di Medicina Veterinaria
DTSTART:20171127T130000Z
DTEND:20171129T170000Z
DESCRIPTION:Il corso rivolto agli studenti di Medicina Veterinaria\, Ã
 ¨ organizzato su due incontri in presenza (2 moduli di 4 ore ciascuno)
  e sulla consultazione obbligatoria dei materiali online (presentazion
 i e questionari)\, fruibili in modalitÃ  elearning . SarÃ  riconosciut
 o 1 CFU.
LOCATION:Laboratorio informatico (pianoterra del Plesso di Ozzano)
URL:https://sba.unibo.it/it/bacheca/eventi/corso-sulla-ricerca-bibliografica-per-gli-studenti-di-medicina-veterinaria
CLASS:PUBLIC
END:VEVENT
END:VCALENDAR
