BEGIN:VCALENDAR
PRODID:-//AT Content Types//AT Event//EN
VERSION:2.0
METHOD:PUBLISH
BEGIN:VEVENT
DTSTAMP:20260422T114745Z
CREATED:20170117T083805Z
LAST-MODIFIED:20170117T125708Z
SUMMARY:Digital resources for management\, finance and statistics\, 2016-2017
DTSTART:20170124T080000Z
DTEND:20170301T123000Z
DESCRIPTION:This course is addressed to Phd students in Management and
  Phd students in Statistics. Its purpose is to introduce University of
  Bologna libraries and all the services they offer\, including catalog
 ues and digital collections (databases\, e-books\, e-journals…) plus
  elements of copyright and publishing issues.
LOCATION:“Sala Seminari” (1° piano). Dip. Stat. Via Belle Arti 41.
URL:https://sba.unibo.it/it/bacheca/eventi/digital-resources-for-management-finance-and-statistics-2016-2017
CLASS:PUBLIC
END:VEVENT
END:VCALENDAR
