BEGIN:VCALENDAR
PRODID:-//AT Content Types//AT Event//EN
VERSION:2.0
METHOD:PUBLISH
BEGIN:VEVENT
DTSTAMP:20260424T073130Z
CREATED:20181126T102936Z
LAST-MODIFIED:20240915T164905Z
SUMMARY:Indici e Sommari - Progetto Digitocs
DTSTART:20241016T080000Z
DTEND:20241016T150000Z
DESCRIPTION:Allegati digitali nell’OPAC di Polo
LOCATION:Aula N - Aula O | Complesso Belmeloro | Via Andreatta\, 8 - Bologna
URL:https://sba.unibo.it/it/bacheca/eventi/digitocs-2024
CLASS:PUBLIC
END:VEVENT
END:VCALENDAR
