BEGIN:VCALENDAR
PRODID:-//AT Content Types//AT Event//EN
VERSION:2.0
METHOD:PUBLISH
BEGIN:VEVENT
DTSTAMP:20260424T220914Z
CREATED:20190415T131912Z
LAST-MODIFIED:20250919T042103Z
SUMMARY:Formazione in ingresso per bibliotecari neo-assunti - 2025
DTSTART:20250921T220000Z
DTEND:20251001T220000Z
DESCRIPTION:Ciclo di incontri - dal 22 settembre al 2 ottobre 2025
URL:https://sba.unibo.it/it/bacheca/eventi/formazione-neoassunti-2025
CLASS:PUBLIC
END:VEVENT
END:VCALENDAR
