BEGIN:VCALENDAR
PRODID:-//AT Content Types//AT Event//EN
VERSION:2.0
METHOD:PUBLISH
BEGIN:VEVENT
DTSTAMP:20260422T152326Z
CREATED:20161123T093111Z
LAST-MODIFIED:20170213T104129Z
SUMMARY:Incontro annuale dei Comitati Scientifici delle Biblioteche dello SBA
DTSTART:20161202T083000Z
DTEND:20161202T120000Z
LOCATION:Sala dell'VIII Centenario\, Via Zamboni 33
URL:https://sba.unibo.it/it/bacheca/eventi/incontro-annuale-dei-comitati-scientifici-delle-biblioteche-dello-sba
CLASS:PUBLIC
END:VEVENT
END:VCALENDAR
