BEGIN:VCALENDAR
PRODID:-//AT Content Types//AT Event//EN
VERSION:2.0
METHOD:PUBLISH
BEGIN:VEVENT
DTSTAMP:20260417T235542Z
CREATED:20180905T074711Z
LAST-MODIFIED:20180907T101715Z
SUMMARY:La piattaforma Moodle per la formazione degli studenti collaboratori
DTSTART:20180906T070000Z
DTEND:20180925T110000Z
DESCRIPTION:Corso riservato agli editors
LOCATION:Aula Renoir - Cesia\, Viale Filopanti\, 3
URL:https://sba.unibo.it/it/bacheca/eventi/la-piattaforma-moodle-per-la-formazione-degli-studenti-collaboratori
CLASS:PUBLIC
END:VEVENT
END:VCALENDAR
