BEGIN:VCALENDAR
PRODID:-//AT Content Types//AT Event//EN
VERSION:2.0
METHOD:PUBLISH
BEGIN:VEVENT
DTSTAMP:20260420T153522Z
CREATED:20170523T131703Z
LAST-MODIFIED:20170523T132003Z
SUMMARY:Le rinate carte
DTSTART:20170527T130000Z
DTEND:20170527T170000Z
DESCRIPTION:In questo primo appuntamento si presentano le attività di
  restauro svolte dal 2016 su libri manoscritti e a stampa della Biblio
 teca Universitaria di Bologna\, grazie all’intervento mecenatizio di
  ARPAI (Associazione per il Restauro del Patrimonio Artistico Italiano
 \, Vicenza).
LOCATION:Biblioteca Universitaria di Bologna
URL:https://sba.unibo.it/it/bacheca/eventi/le-rinate-carte
CLASS:PUBLIC
END:VEVENT
END:VCALENDAR
