BEGIN:VCALENDAR
PRODID:-//AT Content Types//AT Event//EN
VERSION:2.0
METHOD:PUBLISH
BEGIN:VEVENT
DTSTAMP:20260420T171739Z
CREATED:20180208T154716Z
LAST-MODIFIED:20180208T154958Z
SUMMARY:Le risorse digitali in ambito linguistico
DTSTART:20180221T090000Z
DTEND:20180221T120000Z
DESCRIPTION:Il percorso formativo si articola in 5 moduli.
LOCATION:Sala Convegni Dipartimento Lilec - Lingue\, letterature e culture moderne
URL:https://sba.unibo.it/it/bacheca/eventi/le-risorse-digitali-in-ambito-linguistico
CLASS:PUBLIC
END:VEVENT
END:VCALENDAR
