BEGIN:VCALENDAR
PRODID:-//AT Content Types//AT Event//EN
VERSION:2.0
METHOD:PUBLISH
BEGIN:VEVENT
DTSTAMP:20260420T135042Z
CREATED:20170207T121230Z
LAST-MODIFIED:20170207T121359Z
SUMMARY:Le risorse elettroniche in ambito linguistico
DTSTART:20170222T091500Z
DTEND:20170222T123000Z
LOCATION:presso Sala Convegni Lilec via Cartoleria\, 5 Bologna
URL:https://sba.unibo.it/it/bacheca/eventi/le-risorse-elettroniche-in-ambito-linguistico
CLASS:PUBLIC
END:VEVENT
END:VCALENDAR
