BEGIN:VCALENDAR
PRODID:-//AT Content Types//AT Event//EN
VERSION:2.0
METHOD:PUBLISH
BEGIN:VEVENT
DTSTAMP:20260418T121020Z
CREATED:20191017T091053Z
LAST-MODIFIED:20191017T091402Z
SUMMARY:Open Access Week: OpenAIRE Webinars
DTSTART:20191021T090000Z
DTEND:20191025T150000Z
URL:https://sba.unibo.it/it/bacheca/eventi/open-access-week-openaire-webinars
CLASS:PUBLIC
END:VEVENT
END:VCALENDAR
