BEGIN:VCALENDAR
PRODID:-//AT Content Types//AT Event//EN
VERSION:2.0
METHOD:PUBLISH
BEGIN:VEVENT
DTSTAMP:20260424T060623Z
CREATED:20190415T131912Z
LAST-MODIFIED:20230531T080336Z
SUMMARY:Risorse bibliografiche su piattaforma Ovid
DTSTART:20230627T080000Z
DTEND:20230627T101500Z
DESCRIPTION:Seminario di aggiornamento
LOCATION:Aula virtuale su piattaforma Teams
URL:https://sba.unibo.it/it/bacheca/eventi/ovid-2023
CLASS:PUBLIC
END:VEVENT
END:VCALENDAR
