BEGIN:VCALENDAR
PRODID:-//AT Content Types//AT Event//EN
VERSION:2.0
METHOD:PUBLISH
BEGIN:VEVENT
DTSTAMP:20260420T122317Z
CREATED:20180115T134546Z
LAST-MODIFIED:20180115T134856Z
SUMMARY:Risorse bibliografiche e servizi bibliotecari per l'ingegneria e l'architettura
DTSTART:20180205T081500Z
DTEND:20180213T120000Z
DESCRIPTION:Seminario per Ricercatori\, Dottorandi\, Assegnisti e Cont
 rattisti della Scuola di Ingegneria e Architettura AA. 2017-2018.
LOCATION:Vedi programma allegato
URL:https://sba.unibo.it/it/bacheca/eventi/risorse-bibliografiche-e-servizi-bibliotecari-per-lingegneria-e-larchitettura
CLASS:PUBLIC
END:VEVENT
END:VCALENDAR
