BEGIN:VCALENDAR
PRODID:-//AT Content Types//AT Event//EN
VERSION:2.0
METHOD:PUBLISH
BEGIN:VEVENT
DTSTAMP:20260422T233615Z
CREATED:20190415T131912Z
LAST-MODIFIED:20231212T131647Z
SUMMARY:Le nuove procedure di scarico e la Revisione Inventariale in Sebina Next
DTSTART:20231205T090000Z
DTEND:20231213T120000Z
LOCATION:Laboratorio Informatico "O" - complesso Belmeloro - Via Andreatta\, 8\, terzo piano (13 dicembre) -  Laboratorio Informatico - Via Irnerio 46 Piano Terra (5 dicembre)
URL:https://sba.unibo.it/it/bacheca/eventi/scarico-rev-invent-2023
CLASS:PUBLIC
END:VEVENT
END:VCALENDAR
