BEGIN:VCALENDAR
PRODID:-//AT Content Types//AT Event//EN
VERSION:2.0
METHOD:PUBLISH
BEGIN:VEVENT
DTSTAMP:20260424T162307Z
CREATED:20190415T131912Z
LAST-MODIFIED:20240208T163446Z
SUMMARY:Le nuove procedure di scarico e la Revisione Inventariale in Sebina Next
DTSTART:20240213T090000Z
DTEND:20240222T120000Z
DESCRIPTION:Edizione 2024
LOCATION:Laboratorio Informatico\, secondo calendario
URL:https://sba.unibo.it/it/bacheca/eventi/scarico-rev-invent-2024
CLASS:PUBLIC
END:VEVENT
END:VCALENDAR
