BEGIN:VCALENDAR
PRODID:-//AT Content Types//AT Event//EN
VERSION:2.0
METHOD:PUBLISH
BEGIN:VEVENT
DTSTAMP:20260420T185808Z
CREATED:20160908T080436Z
LAST-MODIFIED:20160908T083636Z
SUMMARY:Seminario sui gestori bibliografici EndNote\, Mendeley e Zotero
DTSTART:20160928T130000Z
DTEND:20160928T160000Z
DESCRIPTION:Un aiuto per organizzare i riferimenti bibliografici\, ges
 tire e annotare pdf\, formattare bibliografie\, condividere dati
LOCATION:Aula Mangini (aula 9)\, Dipartimento di Chimica Industriale 'Toso Montanari'\, Viale Risorgimento 4\, Bologna
URL:https://sba.unibo.it/it/bacheca/eventi/seminario-sui-gestori-bibliografici-endnote-mendeley-e-zotero-a-cura-della-biblioteca-interdipartimentale-di-chimica
CLASS:PUBLIC
END:VEVENT
END:VCALENDAR
