BEGIN:VCALENDAR
PRODID:-//AT Content Types//AT Event//EN
VERSION:2.0
METHOD:PUBLISH
BEGIN:VEVENT
DTSTAMP:20260426T015541Z
CREATED:20190415T131912Z
LAST-MODIFIED:20230909T085023Z
SUMMARY:L'utente unico dei servizi di prestito nel Sistema Bibliotecario di Ateneo
DTSTART:20230913T080000Z
DTEND:20230920T100000Z
LOCATION:Aula virtuale su piattaforma Teams
URL:https://sba.unibo.it/it/bacheca/eventi/utente-unico-2023
CLASS:PUBLIC
END:VEVENT
END:VCALENDAR
