BEGIN:VCALENDAR
PRODID:-//AT Content Types//AT Event//EN
VERSION:2.0
METHOD:PUBLISH
BEGIN:VEVENT
DTSTAMP:20260421T100006Z
CREATED:20190718T131720Z
LAST-MODIFIED:20190918T080946Z
SUMMARY:Webinar SAGE Research Methods - mercoledì 24 luglio ore 10:30-11:30
DTSTART:20190724T083000Z
DTEND:20190724T093000Z
DESCRIPTION:Presentazione in remoto della risorsa SAGE Research Method
 s
URL:https://sba.unibo.it/it/bacheca/eventi/webinar-sage-research-methods-20190724
CLASS:PUBLIC
END:VEVENT
END:VCALENDAR
